BEGIN:VCALENDAR
VERSION:2.0
PRODID:-//Library Market//iCal Export//EN
BEGIN:VEVENT
SUMMARY:Tuesday Morning Storytime
UID:46449
DTSTAMP:20260419T155700Z
DTSTART:20250624T143000Z
DTEND:20250624T153000Z
LOCATION:105 Schuyler Street, Albany, NY 12202, United States
ROOM: Howe: Children&#039;s Room
DESCRIPTION:[2-5] Come on down to the historic Howe Branch of the Albany P
 ublic library for Stories, Songs, Dancing, Playtime and Crafts! 
URL:https://albany.librarycalendar.com/event/copy-tuesday-morning-storytim
 e-46449
END:VEVENT
END:VCALENDAR
