BEGIN:VCALENDAR
VERSION:2.0
PRODID:-//Library Market//iCal Export//EN
BEGIN:VEVENT
SUMMARY:Fun@4! Flower Crowns
UID:66315
DTSTAMP:20260419T155700Z
DTSTART:20260506T200000Z
DTEND:20260506T210000Z
LOCATION:455 New Scotland Avenue, Albany, NY 12208, United States
ROOM: Bach: Community Room
DESCRIPTION:Just in time for Tulip Fest, we are going to make flower crown
 s from construction paper.
URL:https://albany.librarycalendar.com/event/fun4-flower-crowns-66315
END:VEVENT
END:VCALENDAR
