BEGIN:VCALENDAR
VERSION:2.0
PRODID:-//Library Market//iCal Export//EN
BEGIN:VEVENT
SUMMARY:Fun@4! Rocket craft
UID:66319
DTSTAMP:20260422T043500Z
DTSTART:20260513T200000Z
DTEND:20260513T210000Z
LOCATION:455 New Scotland Avenue, Albany, NY 12208, United States
ROOM: Bach: Community Room
DESCRIPTION:In honor of Judith Resnik, the first Jewish American and first
  Jewish woman in space, we will make rocket ships from recycled materials.
  
URL:https://albany.librarycalendar.com/event/fun4-rocket-craft-66319
END:VEVENT
END:VCALENDAR
