BEGIN:VCALENDAR
VERSION:2.0
PRODID:-//Library Market//iCal Export//EN
BEGIN:VEVENT
SUMMARY:Fun@4! Make a Lei
UID:66323
DTSTAMP:20260419T155700Z
DTSTART:20260527T200000Z
DTEND:20260527T210000Z
LOCATION:455 New Scotland Avenue, Albany, NY 12208, United States
ROOM: Bach: Community Room
DESCRIPTION:Did you know that Hawaiian leis are a symbol of love, friendsh
 ip, and welcome? We will make our own paper flower leis to keep or give to
  a loved one. 
URL:https://albany.librarycalendar.com/event/fun4-make-lei-66323
END:VEVENT
END:VCALENDAR
