BEGIN:VCALENDAR
VERSION:2.0
PRODID:-//Library Market//iCal Export//EN
BEGIN:VEVENT
SUMMARY:Fun@4! Sun Prints
UID:66332
DTSTAMP:20260419T155700Z
DTSTART:20260624T200000Z
DTEND:20260624T210000Z
LOCATION:455 New Scotland Avenue, Albany, NY 12208, United States
ROOM: Bach: Community Room
DESCRIPTION:We will use the power of the sun to make prints on special cya
 notype paper. Capture the shadows of everyday objects onto this special pa
 per through solar power. 
URL:https://albany.librarycalendar.com/event/fun4-sun-prints-66332
END:VEVENT
END:VCALENDAR
