BEGIN:VCALENDAR
VERSION:2.0
PRODID:-//Library Market//iCal Export//EN
BEGIN:VEVENT
SUMMARY:Caterpillars at Bach
UID:66333
DTSTAMP:20260422T043500Z
DTSTART:20260518T040000Z
DTEND:20260522T040000Z
LOCATION:455 New Scotland Avenue, Albany, NY 12208, United States
ROOM: Caterpillars at Bach
DESCRIPTION:Watch the caterpillars go through the stages to become a butte
 rfly. Check back every time you come into the library to see their progres
 s. Dates are approximate, as these are natural living creatures that have 
 their own developmental timeline.  
URL:https://albany.librarycalendar.com/event/caterpillars-bach-66333
END:VEVENT
END:VCALENDAR
