BEGIN:VCALENDAR
VERSION:2.0
PRODID:-//Library Market//iCal Export//EN
BEGIN:VEVENT
SUMMARY:Oscars Club
UID:66346
DTSTAMP:20260423T224700Z
DTSTART:20260617T210000Z
DTEND:20260617T233000Z
LOCATION:616 North Pearl Street, Albany, NY 12204, United States
ROOM: North Albany: Meeting Room
DESCRIPTION:Put on your best red carpet looks (or your comfiest sweatpants
 ) for screenings of Oscar-winning movies!May&#039;s Movie: The StingJune&#
 039;s Movie: Milk
URL:https://albany.librarycalendar.com/event/oscars-club-66346
END:VEVENT
END:VCALENDAR
