BEGIN:VCALENDAR
VERSION:2.0
PRODID:-//Library Market//iCal Export//EN
BEGIN:VEVENT
SUMMARY:Resume Assistance
UID:69153
DTSTAMP:20260422T043500Z
DTSTART:20260514T224500Z
DTEND:20260514T233000Z
LOCATION:161 Washington Avenue, Albany, NY 12210, United States
ROOM: Washington: 2nd Floor Small Meeting Room
DESCRIPTION:
URL:https://albany.librarycalendar.com/event/resume-assistance-69153
END:VEVENT
END:VCALENDAR
