BEGIN:VCALENDAR
VERSION:2.0
PRODID:-//Library Market//iCal Export//EN
BEGIN:VEVENT
SUMMARY:Flora E. Kippens Mtg
UID:69221
DTSTAMP:20260422T101800Z
DTSTART:20260419T180000Z
DTEND:20260419T200000Z
LOCATION:331 Delaware Avenue, Albany, NY 12209, United States
ROOM: Delaware: Community Room
DESCRIPTION:Monthly Meeting
URL:https://albany.librarycalendar.com/event/meeting-69221
END:VEVENT
END:VCALENDAR
